BEGIN:VCALENDAR
VERSION:2.0
PRODID:-//SchwuBiLes+ Stammtisch Pforzheim - ECPv6.15.20//NONSGML v1.0//EN
CALSCALE:GREGORIAN
METHOD:PUBLISH
X-ORIGINAL-URL:https://schwubiles-pforzheim.de
X-WR-CALDESC:Veranstaltungen für SchwuBiLes+ Stammtisch Pforzheim
REFRESH-INTERVAL;VALUE=DURATION:PT1H
X-Robots-Tag:noindex
X-PUBLISHED-TTL:PT1H
BEGIN:VTIMEZONE
TZID:Europe/Berlin
BEGIN:DAYLIGHT
TZOFFSETFROM:+0100
TZOFFSETTO:+0200
TZNAME:CEST
DTSTART:20230326T010000
END:DAYLIGHT
BEGIN:STANDARD
TZOFFSETFROM:+0200
TZOFFSETTO:+0100
TZNAME:CET
DTSTART:20231029T010000
END:STANDARD
BEGIN:DAYLIGHT
TZOFFSETFROM:+0100
TZOFFSETTO:+0200
TZNAME:CEST
DTSTART:20240331T010000
END:DAYLIGHT
BEGIN:STANDARD
TZOFFSETFROM:+0200
TZOFFSETTO:+0100
TZNAME:CET
DTSTART:20241027T010000
END:STANDARD
BEGIN:DAYLIGHT
TZOFFSETFROM:+0100
TZOFFSETTO:+0200
TZNAME:CEST
DTSTART:20250330T010000
END:DAYLIGHT
BEGIN:STANDARD
TZOFFSETFROM:+0200
TZOFFSETTO:+0100
TZNAME:CET
DTSTART:20251026T010000
END:STANDARD
END:VTIMEZONE
BEGIN:VEVENT
DTSTART;TZID=Europe/Berlin:20240504T200000
DTEND;TZID=Europe/Berlin:20240505T030000
DTSTAMP:20260423T190208
CREATED:20240416T212342Z
LAST-MODIFIED:20240420T183223Z
UID:85-1714852800-1714878000@schwubiles-pforzheim.de
SUMMARY:04.05.24 City under the Rainbow
DESCRIPTION:  \n\n\n\n\nAm 04.05.24 findet im Kulturhaus Osterfeld (neue Location) die alljährliche queere Party City under the rainbow statt.
URL:https://schwubiles-pforzheim.de/event/04-05-24-city-under-the-rainbow/
LOCATION:Kulturhaus Osterfeld\, Osterfeldstr. 12\, Pforzheim\, Baden-Württemberg\, 75172\, Deutschland
CATEGORIES:Fremdorganisierte Events
ATTACH;FMTTYPE=image/png:https://schwubiles-pforzheim.de/wp-content/uploads/2024/04/1.png
END:VEVENT
END:VCALENDAR