BEGIN:VCALENDAR
VERSION:2.0
PRODID:-//SchwuBiLes+ Stammtisch Pforzheim - ECPv6.15.20//NONSGML v1.0//EN
CALSCALE:GREGORIAN
METHOD:PUBLISH
X-WR-CALNAME:SchwuBiLes+ Stammtisch Pforzheim
X-ORIGINAL-URL:https://schwubiles-pforzheim.de
X-WR-CALDESC:Veranstaltungen für SchwuBiLes+ Stammtisch Pforzheim
REFRESH-INTERVAL;VALUE=DURATION:PT1H
X-Robots-Tag:noindex
X-PUBLISHED-TTL:PT1H
BEGIN:VTIMEZONE
TZID:Europe/Berlin
BEGIN:DAYLIGHT
TZOFFSETFROM:+0100
TZOFFSETTO:+0200
TZNAME:CEST
DTSTART:20230326T010000
END:DAYLIGHT
BEGIN:STANDARD
TZOFFSETFROM:+0200
TZOFFSETTO:+0100
TZNAME:CET
DTSTART:20231029T010000
END:STANDARD
BEGIN:DAYLIGHT
TZOFFSETFROM:+0100
TZOFFSETTO:+0200
TZNAME:CEST
DTSTART:20240331T010000
END:DAYLIGHT
BEGIN:STANDARD
TZOFFSETFROM:+0200
TZOFFSETTO:+0100
TZNAME:CET
DTSTART:20241027T010000
END:STANDARD
BEGIN:DAYLIGHT
TZOFFSETFROM:+0100
TZOFFSETTO:+0200
TZNAME:CEST
DTSTART:20250330T010000
END:DAYLIGHT
BEGIN:STANDARD
TZOFFSETFROM:+0200
TZOFFSETTO:+0100
TZNAME:CET
DTSTART:20251026T010000
END:STANDARD
END:VTIMEZONE
BEGIN:VEVENT
DTSTART;TZID=Europe/Berlin:20240601T110000
DTEND;TZID=Europe/Berlin:20240601T220000
DTSTAMP:20260423T173537
CREATED:20240420T173719Z
LAST-MODIFIED:20240420T183110Z
UID:197-1717239600-1717279200@schwubiles-pforzheim.de
SUMMARY:01.06.24 CSD Karlsruhe - We are here - always queer!
DESCRIPTION:Am 01.06.24 findet der CSD Karlsruhe unter dem Motto „We are here – always queer! auf dem Marktplatz & Schlossplatz Karlsruhe statt.
URL:https://schwubiles-pforzheim.de/event/01-06-24-csd-karlsruhe-we-are-here-always-queer/
LOCATION:Marktplatz Karlsruhe\, Marktplatz\, Karlsruhe\, 76133\, Deutschland
CATEGORIES:Fremdorganisierte Events
ATTACH;FMTTYPE=image/jpeg:https://schwubiles-pforzheim.de/wp-content/uploads/2024/04/CSD_2024_Jubilaeumsplakat.jpg
ORGANIZER;CN="CSD Karlsruhe e. V.":MAILTO:kontakt@csd-karlsruhe.de
END:VEVENT
END:VCALENDAR