BEGIN:VCALENDAR
VERSION:2.0
PRODID:-//SchwuBiLes+ Stammtisch Pforzheim - ECPv6.15.20//NONSGML v1.0//EN
CALSCALE:GREGORIAN
METHOD:PUBLISH
X-ORIGINAL-URL:https://schwubiles-pforzheim.de
X-WR-CALDESC:Veranstaltungen für SchwuBiLes+ Stammtisch Pforzheim
REFRESH-INTERVAL;VALUE=DURATION:PT1H
X-Robots-Tag:noindex
X-PUBLISHED-TTL:PT1H
BEGIN:VTIMEZONE
TZID:Europe/Berlin
BEGIN:DAYLIGHT
TZOFFSETFROM:+0100
TZOFFSETTO:+0200
TZNAME:CEST
DTSTART:20230326T010000
END:DAYLIGHT
BEGIN:STANDARD
TZOFFSETFROM:+0200
TZOFFSETTO:+0100
TZNAME:CET
DTSTART:20231029T010000
END:STANDARD
BEGIN:DAYLIGHT
TZOFFSETFROM:+0100
TZOFFSETTO:+0200
TZNAME:CEST
DTSTART:20240331T010000
END:DAYLIGHT
BEGIN:STANDARD
TZOFFSETFROM:+0200
TZOFFSETTO:+0100
TZNAME:CET
DTSTART:20241027T010000
END:STANDARD
BEGIN:DAYLIGHT
TZOFFSETFROM:+0100
TZOFFSETTO:+0200
TZNAME:CEST
DTSTART:20250330T010000
END:DAYLIGHT
BEGIN:STANDARD
TZOFFSETFROM:+0200
TZOFFSETTO:+0100
TZNAME:CET
DTSTART:20251026T010000
END:STANDARD
END:VTIMEZONE
BEGIN:VEVENT
DTSTART;TZID=Europe/Berlin:20240615T120000
DTEND;TZID=Europe/Berlin:20240615T220000
DTSTAMP:20260423T173953
CREATED:20240416T185920Z
LAST-MODIFIED:20240529T131301Z
UID:44-1718452800-1718488800@schwubiles-pforzheim.de
SUMMARY:15.06.24 CSD Pforzheim- Pforzheim stellt sich que(e)r!
DESCRIPTION:  \n\n\n\nWir werden beim CSD Pforzheim am 15.06.2024 mit einer Laufgruppe und einem Infostand mit dabei sein. \nJanina wird auf Wunsch von Spotlight e.V. (frühere AIDS Hilfe Pforzheim) eine kurze Rede halten und uns auf der Bühne vorstellen. \nBesucht uns beim Infostand oder meldet euch auch gerne vorab\, wenn ihr uns unterstützen wollt.
URL:https://schwubiles-pforzheim.de/event/csd-pforzheim-2024-pforzheim-stellt-sich-queer/
LOCATION:Marktplatz Pforzheim\, Marktplatz Pforzheim\, Pforzheim\, Baden-Württemberg\, 75175\, Deutschland
CATEGORIES:Fremdorganisierte Events
ATTACH;FMTTYPE=image/png:https://schwubiles-pforzheim.de/wp-content/uploads/2024/04/save-the-date-2.-CSD.png
END:VEVENT
END:VCALENDAR