BEGIN:VCALENDAR
VERSION:2.0
PRODID:-//SchwuBiLes+ Stammtisch Pforzheim - ECPv6.15.20//NONSGML v1.0//EN
CALSCALE:GREGORIAN
METHOD:PUBLISH
X-WR-CALNAME:SchwuBiLes+ Stammtisch Pforzheim
X-ORIGINAL-URL:https://schwubiles-pforzheim.de
X-WR-CALDESC:Veranstaltungen für SchwuBiLes+ Stammtisch Pforzheim
REFRESH-INTERVAL;VALUE=DURATION:PT1H
X-Robots-Tag:noindex
X-PUBLISHED-TTL:PT1H
BEGIN:VTIMEZONE
TZID:Europe/Berlin
BEGIN:DAYLIGHT
TZOFFSETFROM:+0100
TZOFFSETTO:+0200
TZNAME:CEST
DTSTART:20230326T010000
END:DAYLIGHT
BEGIN:STANDARD
TZOFFSETFROM:+0200
TZOFFSETTO:+0100
TZNAME:CET
DTSTART:20231029T010000
END:STANDARD
BEGIN:DAYLIGHT
TZOFFSETFROM:+0100
TZOFFSETTO:+0200
TZNAME:CEST
DTSTART:20240331T010000
END:DAYLIGHT
BEGIN:STANDARD
TZOFFSETFROM:+0200
TZOFFSETTO:+0100
TZNAME:CET
DTSTART:20241027T010000
END:STANDARD
BEGIN:DAYLIGHT
TZOFFSETFROM:+0100
TZOFFSETTO:+0200
TZNAME:CEST
DTSTART:20250330T010000
END:DAYLIGHT
BEGIN:STANDARD
TZOFFSETFROM:+0200
TZOFFSETTO:+0100
TZNAME:CET
DTSTART:20251026T010000
END:STANDARD
END:VTIMEZONE
BEGIN:VEVENT
DTSTART;TZID=Europe/Berlin:20240713T080000
DTEND;TZID=Europe/Berlin:20240713T170000
DTSTAMP:20260423T150356
CREATED:20240420T181653Z
LAST-MODIFIED:20240420T182919Z
UID:220-1720857600-1720890000@schwubiles-pforzheim.de
SUMMARY:13.07.24 MonnemPride/CSD Mannheim - zusammen eins – intersektional. antifaschistisch. queer.
DESCRIPTION:Am 13.07.24 findet in Mannheim unter neuem Namen und Konzept der Monnem Pride als neuer Mannheimer CSD unter einem neuen Veranstalter statt.
URL:https://schwubiles-pforzheim.de/event/13-07-24-monnempride-csd-mannheim-zusammen-eins-intersektional-antifaschistisch-queer/
LOCATION:Paradeplatz Mannheim\, O1\, Mannheim\, Baden-Württemberg\, 68161\, Deutschland
CATEGORIES:Fremdorganisierte Events
ATTACH;FMTTYPE=image/png:https://schwubiles-pforzheim.de/wp-content/uploads/2024/04/cropped-Element-1Logo-1.png
ORGANIZER;CN="Queeres Zentrum Mannheim e.V.":MAILTO:info@qzm-rn.de
END:VEVENT
BEGIN:VEVENT
DTSTART;TZID=Europe/Berlin:20240727T120000
DTEND;TZID=Europe/Berlin:20240727T233000
DTSTAMP:20260423T150356
CREATED:20240420T175013Z
LAST-MODIFIED:20240420T183828Z
UID:203-1722081600-1722123000@schwubiles-pforzheim.de
SUMMARY:27.07.24 CSD Stuttgart - Vielfalt leben. Jetzt erst recht!
DESCRIPTION:Am 27.07.24 findet in Stuttgart der CSD unter dem Motto „Vielfalt leben. Jetzt erst recht!“ statt.
URL:https://schwubiles-pforzheim.de/event/27-07-24-csd-stuttgart-vielfalt-leben-jetzt-erst-recht/
LOCATION:Innenstadt Stuttgart\, Marktplatz\, Stuttgart\, Baden-Württemberg\, 70173
CATEGORIES:Fremdorganisierte Events
ATTACH;FMTTYPE=image/png:https://schwubiles-pforzheim.de/wp-content/uploads/2024/04/StuttgartPride-Logo-Standard-schwarz-RGB.png
ORGANIZER;CN="IG CSD Stuttgart e.V":MAILTO:kontakt@csd-stuttgart.de
END:VEVENT
END:VCALENDAR